BEGIN:VCALENDAR
VERSION:2.0
PRODID:-//GDBA - ECPv6.15.20//NONSGML v1.0//EN
CALSCALE:GREGORIAN
METHOD:PUBLISH
X-WR-CALNAME:GDBA
X-ORIGINAL-URL:https://downtowngilroy.com
X-WR-CALDESC:Events for GDBA
REFRESH-INTERVAL;VALUE=DURATION:PT1H
X-Robots-Tag:noindex
X-PUBLISHED-TTL:PT1H
BEGIN:VTIMEZONE
TZID:America/Los_Angeles
BEGIN:DAYLIGHT
TZOFFSETFROM:-0800
TZOFFSETTO:-0700
TZNAME:PDT
DTSTART:20220313T100000
END:DAYLIGHT
BEGIN:STANDARD
TZOFFSETFROM:-0700
TZOFFSETTO:-0800
TZNAME:PST
DTSTART:20221106T090000
END:STANDARD
BEGIN:DAYLIGHT
TZOFFSETFROM:-0800
TZOFFSETTO:-0700
TZNAME:PDT
DTSTART:20230312T100000
END:DAYLIGHT
BEGIN:STANDARD
TZOFFSETFROM:-0700
TZOFFSETTO:-0800
TZNAME:PST
DTSTART:20231105T090000
END:STANDARD
BEGIN:DAYLIGHT
TZOFFSETFROM:-0800
TZOFFSETTO:-0700
TZNAME:PDT
DTSTART:20240310T100000
END:DAYLIGHT
BEGIN:STANDARD
TZOFFSETFROM:-0700
TZOFFSETTO:-0800
TZNAME:PST
DTSTART:20241103T090000
END:STANDARD
BEGIN:DAYLIGHT
TZOFFSETFROM:-0800
TZOFFSETTO:-0700
TZNAME:PDT
DTSTART:20250309T100000
END:DAYLIGHT
BEGIN:STANDARD
TZOFFSETFROM:-0700
TZOFFSETTO:-0800
TZNAME:PST
DTSTART:20251102T090000
END:STANDARD
END:VTIMEZONE
BEGIN:VEVENT
DTSTART;TZID=America/Los_Angeles:20240403T173000
DTEND;TZID=America/Los_Angeles:20240403T210000
DTSTAMP:20260421T172544
CREATED:20240402T195525Z
LAST-MODIFIED:20240402T195525Z
UID:3486-1712165400-1712178000@downtowngilroy.com
SUMMARY:Gourmet Alley Project Community Meeting
DESCRIPTION:The City of Gilroy is getting ready to start construction on the Gourmet Alley Project\, providing infrastructure and aesthetic improvements to the alley south of 4th Street. The project will begin in April and is anticipated to be completed by the end of the year. \nImprovements scheduled for Gourmet Alley include resurfacing\, new trash enclosures and receptacles\, new signage\, additional lighting\, new benches\, new landscaping\, and resurfaced and restriped parking lots. \nA community meeting will be held on Wednesday\, April 3\, at 5:30 PM to provide an overview of the improvements\, construction activities\, and project schedule. \nWhat: Gourmet Alley Project Community Meeting\nWhen: April 3\,2024\, at 5:30 PM\nLocation: Council Chambers located at 7351 Rosanna Street\nTranslation services will be provided through Wordly \nA Groundbreaking Ceremony will be held to celebrate the start of construction on Friday\, April 5\, at 9:00 AM in Gourmet Alley between 5th and 6th Street. The ceremony will include a short speech by the Mayor and an opportunity for photos. \nDuring construction:\nGourmet Alley will be closed south of 4th Street to all pedestrian & vehicle traffic for the duration of project construction. Businesses and residents should make arrangements to receive deliveries on Monterey Road throughout the duration of project construction. Additionally\, pedestrians should use alternate routes\, including using sidewalks\, to access Monterey Road. \nThe public parking lots on Eigleberry between 4th and 6th Streets will be closed for the duration of project construction. Alternate parking will be available at the Downtown Gourmet Parking Lot\, located at 7th and Eigleberry Streets\, and at the Railroad Parking Lot\, located at 6th and Railroad Streets. \nThe City is committed to completing this work quickly\, efficiently\, and safely. We appreciate your patience and understanding.
URL:https://downtowngilroy.com/event/gourmet-alley-project-community-meeting/
LOCATION:Council Chambers\, 7351 Rosanna St\, Gilroy\, 95020\, United States
ATTACH;FMTTYPE=image/png:https://downtowngilroy.com/wp-content/uploads/2024/04/Website-EventImages-Construction.png
ORGANIZER;CN="City of Gilroy":MAILTO:cityclerk@cityofgilroy.org
END:VEVENT
BEGIN:VEVENT
DTSTART;TZID=America/Los_Angeles:20231014T120000
DTEND;TZID=America/Los_Angeles:20231014T180000
DTSTAMP:20260421T172544
CREATED:20231008T062221Z
LAST-MODIFIED:20231008T062834Z
UID:2752-1697284800-1697306400@downtowngilroy.com
SUMMARY:Downtown Gilroy Beer Crawl
DESCRIPTION:
URL:https://downtowngilroy.com/event/downtown-gilroy-beer-crawl/
LOCATION:Downtown Gilroy\, 7490 Monterey Road\, Gilroy\, CA\, 95020\, United States
CATEGORIES:Drinks,Festival,Food,Music
ATTACH;FMTTYPE=image/png:https://downtowngilroy.com/wp-content/uploads/2023/10/Seal-1-square.png
END:VEVENT
END:VCALENDAR