BEGIN:VCALENDAR
VERSION:2.0
PRODID:-//GDBA - ECPv6.15.20//NONSGML v1.0//EN
CALSCALE:GREGORIAN
METHOD:PUBLISH
X-WR-CALNAME:GDBA
X-ORIGINAL-URL:https://downtowngilroy.com
X-WR-CALDESC:Events for GDBA
REFRESH-INTERVAL;VALUE=DURATION:PT1H
X-Robots-Tag:noindex
X-PUBLISHED-TTL:PT1H
BEGIN:VTIMEZONE
TZID:America/Los_Angeles
BEGIN:DAYLIGHT
TZOFFSETFROM:-0800
TZOFFSETTO:-0700
TZNAME:PDT
DTSTART:20230312T100000
END:DAYLIGHT
BEGIN:STANDARD
TZOFFSETFROM:-0700
TZOFFSETTO:-0800
TZNAME:PST
DTSTART:20231105T090000
END:STANDARD
BEGIN:DAYLIGHT
TZOFFSETFROM:-0800
TZOFFSETTO:-0700
TZNAME:PDT
DTSTART:20240310T100000
END:DAYLIGHT
BEGIN:STANDARD
TZOFFSETFROM:-0700
TZOFFSETTO:-0800
TZNAME:PST
DTSTART:20241103T090000
END:STANDARD
BEGIN:DAYLIGHT
TZOFFSETFROM:-0800
TZOFFSETTO:-0700
TZNAME:PDT
DTSTART:20250309T100000
END:DAYLIGHT
BEGIN:STANDARD
TZOFFSETFROM:-0700
TZOFFSETTO:-0800
TZNAME:PST
DTSTART:20251102T090000
END:STANDARD
END:VTIMEZONE
BEGIN:VEVENT
DTSTART;VALUE=DATE:20241005
DTEND;VALUE=DATE:20241006
DTSTAMP:20260421T044608
CREATED:20240331T054331Z
LAST-MODIFIED:20240927T061527Z
UID:3427-1728086400-1728172799@downtowngilroy.com
SUMMARY:Chalkfest 2024
DESCRIPTION:SATURDAY\, OCTOBER 5 \nChalk Fest 2024\n		Celebrating its 3rd year\, The Gilroy Chalk Fest brings together artists\, students\, vendors\, and community members to a colorful day in Downtown Gilroy. Artists of all abilities create an array of diverse art throughout Monterey Road.\nIn addition to the artwork\, the festival features a performance area of local performances like folklorico dancers\, DJ’s \, Live Art\, Children’s Area\, as well as vendor booths and more.The festival is FREE to attend!\nThere is no fee to enter the competition.  Space may be limited and ages 5 and older may participate.\nPARTICIPANTS WILL BE PROVIDED WITH THE FOLLOWING ITEMS AT CHECK IN \n\nChalk\nKnee pads\nBottle of water\nsnacks\n\nYou may also bring whatever you need to complete artwork such brushes and sponges for blending\, etc. sunscreen\, additional water\, snacks or money to patronize the food and art vendors at the festival\, a blanket or camp chair for taking breaks in the shade.\nThe Chalk Art Fest is a Grantor from Gilroy Elevate the Arts Program Grant through a partnership with the City of Gilroy\, the David and Lucile Packard Foundation\, and the County of Santa Clara. In alignment with the mission of SVCREATES.
URL:https://downtowngilroy.com/event/chalkfest-2024/
LOCATION:Downtown Gilroy\, 7490 Monterey Road\, Gilroy\, CA\, 95020\, United States
CATEGORIES:Art,Culture,Drinks,Family-friendly,Festival,Food,Music,Wine
ATTACH;FMTTYPE=image/png:https://downtowngilroy.com/wp-content/uploads/2023/10/Chalk.png
ORGANIZER;CN="M.A.N.O.S.":MAILTO:manosgilroy@gmail.com
END:VEVENT
END:VCALENDAR